{"text_format":"1","workbook":"xlsx","n_sheets":7,"sheets":["Banheiro + Rede","Banh. fossas","Composição","Placa de obras","Resumo","Crono","BDI"],"not_rendered":{"charts":0,"images":1,"macros":0,"external_links":1,"defined_names":1,"comments":0,"pivot_tables":0},"unopened":[],"bounds":{"document_bytes":16777216,"sheet_cells":100000,"rows_first":2000,"rows_last":500,"rows_between":2000,"halvings":0,"cell_chars":16384,"cell_head_chars":4096},"cells_cut":0,"cells_raw":0,"read":"whole","date_system":"1900"}

{"sheet":"Banheiro + Rede","index":0,"n_rows":70,"n_cols":9,"rows_kept":70,"cut":false,"hidden":true,"merged":[[59,0,59,6],[66,0,66,6],[67,0,67,6],[68,0,68,6],[69,0,69,6],[45,0,45,6],[0,2,0,8],[1,3,1,6],[2,3,2,6],[7,0,7,6],[11,0,11,6],[14,0,14,6],[2,7,2,8],[20,3,20,6],[27,0,27,6],[32,0,32,6],[37,0,37,6],[41,0,41,6]]}
[null,null,"PREFEITURA MUNICIPAL DE xxxxxxxxxxxxxxxxxxxxxxxxxxx"]
[null,null,null,"Módulo Sanitário completo com esgoto ligado a rede pública"]
[null,null,null,"SINAPI/SETOP - Dezembro/2017 (RT=13/01/2018)",null,null,null,"BDI-22,85%"]
["Item","CÓDIGO","FONTE","Descrição dos serviços","Unidade","Quantidade Prevista","Valor Unitário","Valor Total Sem BDI","Valor total com BDI"]
[1,null,null,"Serviços preliminares"]
["1.1","73948/016","SINAPI","Limpeza manual do terreno (com raspagem superficial)","m2",8.02,3.01,{"$f":"F6*G6","v":24.140199999999997},{"$f":"H6*1.2285","v":29.656235699999993}]
["1.2","74077/003","SINAPI","Locação convencional de obra, através de gabarito de tábuas","m2",3.45,4.7699999999999996,{"$f":"F7*G7","v":16.456499999999998},{"$f":"H7*1.2285","v":20.216810249999998}]
["                                                                                                                                                            SUB-TOTAL",null,null,null,null,null,null,{"$f":"SUM(H6:H7)","v":40.596699999999998},49.873045949999998]
[2,null,null,"Fundações"]
["2.1",93358,"SINAPI","Escavação manual de valas","m3",0.41,47.63,19.528300000000002,23.990516549999999]
["2.2",73361,"SINAPI","Concreto ciclópico 30% de pedra de mão consumo mínimo de cimento 150 Kg\\m3 – preparo e lançamento","m3",0.41,293.51,120.33909999999999,147.83658434999998]
["                                                                                                                                                            SUB-TOTAL",null,null,null,null,null,null,{"$f":"SUM(H10:H11)","v":139.86739999999998},171.82710089999995]
[3,null,null,"Coberturas"]
["3.1","74202/002","SINAPI","Laje pré-moldada para piso, sobrecarga de 200 Kg/m², espessura =8 cm, com lajotas e capeamento com concreto  FCK=20 Mpa e ferragem negativa,  esp. 4 cm, com escoramento, inclinação 10% e beiral de 20 cm nas quatro faces.","m2",5.13,63.25,324.47249999999997,398.61446624999996]
["                                                                                                                                                            SUB-TOTAL",null,null,null,null,null,null,{"$f":"H14","v":324.47249999999997},398.61446624999996]
[4,null,null,"Paredes, revestimentos e elementos decorativos"]
["4.1",null,null,"Alvenaria de tijolos furados"]
["4.1.1",87520,"SINAPI","Alvenaria de vedação de blocos cerâmicos furados na horizontal de 9X19X19 cm (espessura 9 cm) de paredes com área líquida maior ou igual a 6,0 m² com vãos,  e argamassa de assentamento com preparo manual.","m2",17.399999999999999,51.9,903.06,1109.4092099999998]
["4.1.2",87496,"SINAPI","Alvenaria de vedação de blocos cerâmicos furados na horizontal de 9X19X19 cm (espessura 9 cm) de paredes com área líquida menor que 6,0 m² sem vãos,  e argamassa de assentamento com preparo manual (apoio pia de cozinha e tanque de lavar roupa).","m2",2.16,55.62,120.1392,147.59100720000001]
["4.1.3",87496,"SINAPI","Alvenaria de vedação de blocos cerâmicos furados na horizontal de 9X19X19 cm (espessura 9 cm) de paredes com área líquida menor que 6,0 m² sem vãos,  e argamassa de assentamento com preparo manual (apoio da caixa d`água).","m2",0.5,55.62,27.81,34.164584999999995]
[null,null,null,"                                                                                                                                                            SUB-TOTAL",null,null,null,{"$f":"SUM(H18:H20)","v":1051.0092},1291.1648021999999]
["4.2",null,null,"Revestimentos"]
["4.2.1",87878,"SINAPI","Chapisco de parede, com argamassa de cimento e areia, espessura 0,5 cm, traço 1:3, aplicado com colher de pedreiro. (incluindo o interior do teto do banheiro).","m2",42.52,2.68,113.95360000000001,139.99199759999999]
["4.2.2",87530,"SINAPI","Massa única, para recebimento de pintura, em argamassa traço 1:2:8 (cimento, cal hidratada e areia), preparo manual, aplicada manulamente, espessura 2,0 cm, com execução de taliscas (incluindo o interior do teto do banheiro).","m2",37.200000000000003,24.66,917.35200000000009,1126.966932]
["4.2.3",87530,"SINAPI","Massa única, para recebimento de pintura, em argamassa traço 1:2:8 (cimento, cal hidratada e areia), preparo manual, aplicada manulamente, espessura 2,0 cm, com execução de taliscas (apoio da pia de cozinha e tanque de lavar roupa).","m2",4.32,24.66,106.53120000000001,130.87357919999999]
["4.2.4",87530,"SINAPI","Massa única, para recebimento de pintura, em argamassa traço 1:2:8 (cimento, cal hidratada e areia), preparo manual, aplicada manulamente, espessura 2,0 cm, com execução de taliscas (apoio da pia de cozinha e tanque de lavar roupa).","m2",1,24.66,24.66,30.294809999999998]
["4.2.5",87271,"SINAPI","Revestimento cerâmico para paredes internas com placas tipo esmaltada extra de dimensões 25x35 cm, aplicadas em ambiente de área maior que 5,0 m² a meia altura das paredes.","m2",10.08,57.52,579.80160000000001,712.28626559999998]
["                                                                                                                                                            SUB-TOTAL",null,null,null,null,null,null,{"$f":"SUM(H23:H27)","v":1742.2984000000001},2140.4135844000002]
["4.3",null,null,"Esquadrias"]
["4.3.1","SER-POR-010","SETOP","Fornecimento e assentamento de porta completa, estrutura e marco em chapa dobrada, 60 x 210 cm.","pça",1,349.38,349.38,429.21332999999998]
["4.3.2",94559,"SINAPI","Janela de aço  basculante, fixação com argamassa,  sem vidros, padronizada (60x60 cm).","m2",0.36,441.85,159.066,195.41258099999999]
["4.3.3",72116,"SINAPI","Vidro liso comum transparente esp. 3 mm colocado","m2",0.36,62.3,22.427999999999997,27.552797999999996]
["                                                                                                                                                            SUB-TOTAL",null,null,null,null,null,null,{"$f":"SUM(H30:H32)","v":530.87400000000002},652.17870900000003]
[5,null,null,"Pisos interno e externo"]
["5.1",94974,"SINAPI","Concreto magro para lastro, traço 1:4,5:4,5 (cimento/areia média/brita1), preparo manual (contrapiso interno, esp= 6,0 cm).","m³",0.14000000000000001,284.3,39.802000000000007,48.896757000000008]
["5.2",87246,"SINAPI","Revestimento cerâmico para piso com placas tipo grês, dimensões 35x35 cm, aplicada em ambiente de área menor que 5,0 m².","m2",2.4,37.22,89.327999999999989,109.73944799999998]
["5.3",94994,"SINAPI","Execução de passeio (calçada) com concreto moldado in loco, feito em obra, acabamento convencional, esp = 8 cm, armado.","m2",8.02,59.18,474.62359999999995,583.07509259999995]
["                                                                                                                                                            SUB-TOTAL",null,null,null,null,null,null,{"$f":"SUM(H35:H37)","v":603.75360000000001},741.71129759999997]
[6,null,null,"Pinturas"]
["6.1",88489,"SINAPI","Aplicação manual de pintura com tinta látex acrílica em paredes - duas demãos","m²",42.52,9.41,400.11320000000006,491.53906620000004]
["6.2","74145/001","SINAPI","Pintura de esquadrias em esmalte sintético - duas demãos, incluindo uma demão de fundo anticorrosivo (porta e janela).","m2",3.24,14.04,45.489600000000003,55.883973599999997]
["                                                                                                                                                            SUB-TOTAL",null,null,null,null,null,null,{"$f":"SUM(H40:H41)","v":445.60280000000006},547.42303980000008]
[7,null,null,"Instalações elétricas"]
["7.1",93145,"SINAPI","Ponto de iluminação e tomada, residencial, incluindo interruptor simples e tomada 10A/250V, caixa elétrica, eletroduto, cabo, rasgo, quebra e chumbamento (excluindo luminária e lâmpada).","unidade",1,127.92,127.92,157.14972]
["7.2",93040,"SINAPI","Lâmpada fluorescente 60 W","unidade",1,9.7200000000000006,9.7200000000000006,11.94102]
["                                                                                                                                                            SUB-TOTAL",null,null,null,null,null,null,{"$f":"SUM(H44:H45)","v":137.64000000000001},169.09074000000001]
[8,null,null,"Instalações hidrossanitárias"]
["8.1",86943,"SINAPI","Fornecimento e instalação de lavatório em louça branca, suspenso, incluso sifão flexível em PVC, válvula e engate flexível plástico de 30 cm, com torneira cromada de mesa.","unidade",1,172.94,172.94,212.45678999999998]
["8.2",95469,"SINAPI","Fornecimento e instalação de vaso sanitário sifonado convencional de louça branca.","unidade",1,176.48,176.48,216.80567999999997]
["8.3","LOU-TAN-030 ","SETOP","Fornecimento e instalação de tanque de lavar roupas em marmorite  sintético, dois bojos ( cuba e batedor), válvula em plástico branco 1 1/4\" x 1 1/2\", sifão plástico tipo copo 1 1/4\".","unidade",1,348.55,348.55,428.19367499999998]
["8.4","HID-SIF-025 ","SETOP","Fornecimento e instalação de caixa de espuma  em PVC, 250x230x75mm, tubo de PVC 50 mm e tampa e porta tampa.","unidade",1,66.52,66.52,81.719819999999984]
["8.5",86934,"SINAPI","Fornecimento e instalação de pia de cozinha de marmorite sintético (1,20 X 0,60 m), incluindo torneira cromada de 1/2 \", válvula em plástico branco, sifão de plástico.","unidade",1,236.43,236.43,290.45425499999999]
["8.6","HID-SIF-025 ","SETOP","Fornecimento e instalação de caixa de gordura em PVC, 250x230x75mm, tubo de PVC 50 mm e tampa e porta tampa.","unidade",1,{"$f":"G51","v":66.52},66.52,81.719819999999984]
["8.7",34637,"SINAPI","Fornecimento e instalação de caixa d`água de polietileno com tampa, capacidade 310 litros, sem acessórios.","unidade",1,167.92,167.92,206.28971999999996]
["8.8",94975,"SINAPI","Base de sustentação da caixa d`água (0,75 x 0,75 x 0,05 m) concreto armado  FCK - 15 Mpa, preparo manual","m3",2.8000000000000001E-2,300.41000000000003,8.411480000000001,10.333503180000001]
["8.9",9535,"SINAPI","Fornecimento e instalação de chuveiro elétrico com corpo de plástico simples","unidade",1,59.55,59.55,73.157174999999995]
["8.10","74104/001","SINAPI","Caixa de inspeção em tijolo maciço (60x60x60cm), revestida internamente com barra lisa (cimento e areia, traço 1:4), tampa pré-moldada de concreto e fundo de concreto 15 MPA.","Unidade",1,117.16,117.16,143.93105999999997]
["8.11",94650,"SINAPI","Fornecimento e instalação de tubo de PVC, série normal, esgoto predial, DN 40 mm, instalado na caixa de inspeção, junto à parede do banheiro, em prumada de ventilação.","m",3,12.86,38.58,47.395529999999994]
["8.12","Composição",null,"Instalação hidro-sanitária do módulo - conforme composição anexa.","unidade",1,499.09,499.09,613.1320649999999]
["                                                                                                                                                            SUB-TOTAL",null,null,null,null,null,null,{"$f":"SUM(H48:H59)","v":1958.15148},2405.58909318]
[9,null,null,"Ligação do esgoto a rede pública"]
["9.1",93358,"SINAPI","Escavação manual de valas","m³",0.72,47.63,34.293599999999998,42.129687599999997]
["9.2",89714,"SINAPI","Tubo de PVC, série normal, esgoto predial, DN 100 mm, fornecido e instalado em ramal de descarga ou ramal de esgoto sanitário","m",12,34.32,411.84000000000003,505.94544000000002]
["9.3",1965,"SINAPI","Curva de 45 G com bolsas para esgoto sanitário","Unidade",2,25.32,50.64,62.211239999999997]
["9.4",37953,"SINAPI","Selim para ligação de esgoto 150 x 100 mm","Unidade",1,3.75,3.75,4.6068749999999996]
["9.5",2696,"SINAPI","Mão de obra","h",1.5,13.59,20.384999999999998,25.042972499999998]
["                                                                                                                                                            SUB-TOTAL",null,null,null,null,null,null,{"$f":"SUM(H62:H66)","v":520.90859999999998},639.93621509999991]
["TOTAL SEM B.D.I.",null,null,null,null,null,null,{"$f":"SUM(H8+H12+H15+H21+H28+H33+H38+H42+H46+H60+H67)","v":7495.1746799999992},9207.8220943799988]
["B.D.I.(22,85%) ",null,null,null,null,null,null,{"$f":"H68*0.2285","v":1712.6474143799999}]
["TOTAL",null,null,null,null,null,null,{"$f":"SUM(H68+H69)","v":9207.8220943799988},{"$f":"SUM(I8+I12+I15+I21+I28+I33+I38+I42+I46+I60+I67)","v":9207.8220943800006}]

{"sheet":"Banh. fossas","index":1,"n_rows":119,"n_cols":12,"rows_kept":119,"cut":false,"hidden":false,"merged":[[41,0,41,7],[11,0,11,7],[15,0,15,7],[18,0,18,7],[23,0,23,7],[30,0,30,7],[36,0,36,7],[116,0,116,7],[117,0,117,7],[118,0,118,7],[45,0,45,7],[50,0,50,7],[64,0,64,7],[78,0,78,7],[105,0,105,7],[115,0,115,7],[0,2,0,9],[1,3,1,7],[2,3,2,7],[7,0,7,7],[2,8,2,10]]}
[null,null,"PREFEITURA MUNICIPAL DE SÃO JOÃO DO PARAÍSO-MG"]
[null,null,null,"Melhorias Sanitárias completas com esgoto ligado a tanque séptico, filtro anaeróbio e sumidouro"]
[null,null,null,"Mês de referência -SINAPI - Fevereiro/2025, SEINFRA - Janeiro/2025",null,null,null,null,"BDI-21,58%"]
["Item","CÓDIGO","FONTE","Descrição dos serviços","Unidade","Quantidade P/ cada Módulo","Quantidade P/ os 16 Módulos","Valor Unitário Sem BDI","Valor Unitário Com BDI","Valor Total Sem BDI","Valor Total Com BDI P/ Cada Módulo Sanitário","Valor Total Com BDI P/ os 16 Módulos Sanitários"]
[1,null,null,"Administração local"]
["1.1",90777,"SINAPI","Engenheiro civil de obra junior com encargos complementares","H",2,{"$f":"F6*16","v":32},131.30000000000001,{"$f":"H6*1.2158","v":159.63454000000002},{"$f":"F6*H6","v":262.60000000000002},{"$f":"J6*1.2158","v":319.26908000000003},{"$f":"K6*16","v":5108.3052800000005}]
["1.2",90776,"SINAPI","Encarregado Geral de obras com encargos complementares","H",10,{"$f":"F7*16","v":160},60.15,{"$f":"H7*1.2158","v":73.130369999999999},{"$f":"F7*H7","v":601.5},{"$f":"J7*1.2158","v":731.30370000000005},{"$f":"K7*16","v":11700.859200000001}]
["                                                                                                                                                            SUB-TOTAL",null,null,null,null,null,null,null,null,{"$f":"J6+J7","v":864.1},{"$f":"J8*1.2158","v":1050.57278},{"$f":"K8*16","v":16809.164479999999}]
[2,null,null,"Serviços preliminares"]
["2.1",98519,"SINAPI","Revolvimento e limpeza manual de solo","m2",22.02,{"$f":"F10*16","v":352.32},3.9,{"$f":"H10*1.2158","v":4.7416200000000002},{"$f":"F10*H10","v":85.878},{"$f":"J10*1.2158","v":104.4104724},{"$f":"K10*16","v":1670.5675584000001}]
["2.2","ED-17989","SETOP","Locação de obra com gabarito de tábuas corridas pontaletadas a cada 2,00 m, reaproveitamento 2 vezes.","m",6.8,{"$f":"F11*16","v":108.8},54.28,{"$f":"H11*1.2158","v":65.993623999999997},{"$f":"F11*H11","v":369.10399999999998},{"$f":"J11*1.2158","v":448.75664319999998},{"$f":"K11*16","v":7180.1062911999998}]
["                                                                                                                                                            SUB-TOTAL",null,null,null,null,null,null,null,null,{"$f":"J10+J11","v":454.98199999999997},{"$f":"J12*1.2158","v":553.16711559999999},{"$f":"K12*16","v":8850.6738495999998}]
[3,null,null,"Fundações"]
["3.1",93358,"SINAPI","Escavação manual de valas com profundidade igual ou menor que 1,30 m.","m3",0.41,{"$f":"F14*16","v":6.56},89.55,{"$f":"H14*1.2158","v":108.87488999999999},{"$f":"F14*H14","v":36.715499999999999},{"$f":"J14*1.2158","v":44.6387049},{"$f":"K14*16","v":714.21927840000001}]
["3.2","ED-49780","SETOP","Concreto ciclópico 30% de pedra de mão consumo mínimo de cimento 150 Kg\\m3 – preparo e lançamento","m3",0.41,{"$f":"F15*16","v":6.56},570.84,{"$f":"H15*1.2158","v":694.02727200000004},{"$f":"F15*H15","v":234.0444},{"$f":"J15*1.2158","v":284.55118152},{"$f":"K15*16","v":4552.81890432}]
["                                                                                                                                                            SUB-TOTAL",null,null,null,null,null,null,null,null,{"$f":"J14+J15","v":270.75990000000002},{"$f":"J16*1.2158","v":329.18988641999999},{"$f":"K16*16","v":5267.0381827199999}]
[4,null,null,"Coberturas"]
["4.1",101964,"SINAPI","Laje pré-moldada unidirecional, biapoiada, para piso, enchimento em cerâmica, vigota convencional, altura total da laje (enchimento + capa) = 8cm + 4 cm.","m2",5.13,{"$f":"F18*16","v":82.08},196.89,{"$f":"H18*1.2158","v":239.37886199999997},{"$f":"F18*H18","v":1010.0456999999999},{"$f":"J18*1.2158","v":1228.0135620599999},{"$f":"K18*16","v":19648.216992959999}]
["                                                                                                                                                            SUB-TOTAL",null,null,null,null,null,null,null,null,{"$f":"J18","v":1010.0456999999999},{"$f":"J19*1.2158","v":1228.0135620599999},{"$f":"K19*16","v":19648.216992959999}]
[5,null,null,"Alvenaria de tijolos furados"]
["5.1","ED-48231","SETOP","Alvenaria de vedação com tijolo cerâmico furado, Esp.9 cm, para revestimento, inclusive argamassa para assentamento.","m2",19.34,{"$f":"F21*16","v":309.44},57.1,{"$f":"H21*1.2158","v":69.422179999999997},{"$f":"F21*H21","v":1104.3140000000001},{"$f":"J21*1.2158","v":1342.6249612000001},{"$f":"K21*16","v":21481.999379200002}]
["5.2","ED-48231","SETOP","Alvenaria de vedação com tijolo cerâmico furado, Esp.9 cm, para revestimento, inclusive argamassa para assentamento (paredes de suporte da pia de cozinha e tanque de lavar roupa)","m2",2.16,{"$f":"F22*16","v":34.56},57.1,{"$f":"H22*1.2158","v":69.422179999999997},{"$f":"F22*H22","v":123.33600000000001},{"$f":"J22*1.2158","v":149.95190880000001},{"$f":"K22*16","v":2399.2305408000002}]
["5.3","ED-48231","SETOP","Alvenaria de vedação com tijolo cerâmico furado, Esp.9 cm, para revestimento, inclusive argamassa para assentamento (parede de suporte da caixa d`água)","m2",0.7,11.2,57.1,{"$f":"H23*1.2158","v":69.422179999999997},{"$f":"F23*H23","v":39.97},{"$f":"J23*1.2158","v":48.595526},777.52841599999999]
["                                                                                                                                                            SUB-TOTAL",null,null,null,null,null,null,null,null,{"$f":"SUM(J21:J23)","v":1267.6200000000001},{"$f":"J24*1.2158","v":1541.1723960000002},24658.758336000003]
[6,null,null,"Revestimentos"]
["6.1",87878,"SINAPI","Chapisco de parede, com argamassa de cimento e areia, espessura 0,5 cm, traço 1:3, aplicado com colher de pedreiro. (incluindo o interior do teto do banheiro e beiral).","m2",49.72,{"$f":"F26*16","v":795.52},5.22,{"$f":"H26*1.2158","v":6.346476},{"$f":"F26*H26","v":259.53839999999997},{"$f":"J26*1.2158","v":315.54678671999994},{"$f":"K26*16","v":5048.7485875199991}]
["6.2",87530,"SINAPI","Massa única, para recebimento de pintura, em argamassa traço 1:2:8 (cimento, cal hidratada e areia), preparo manual, aplicada manulamente, espessura 2,0 cm, com execução de taliscas (incluindo o interior do teto do banheiro).","m2",44.4,710.4,42.64,{"$f":"H27*1.2158","v":51.841712000000001},{"$f":"F27*H27","v":1893.2159999999999},2301.7720127999996,{"$f":"K27*16","v":36828.352204799994}]
["6.3",87530,"SINAPI","Massa única, para recebimento de pintura, em argamassa traço 1:2:8 (cimento, cal hidratada e areia), preparo manual, aplicada manulamente, espessura 2,0 cm, com execução de taliscas (apoio da pia de cozinha e tanque de lavar roupa).","m2",4.32,69.12,{"$f":"H27","v":42.64},{"$f":"H28*1.2158","v":51.841712000000001},{"$f":"F28*H28","v":184.20480000000001},223.95619583999999,3583.2991334399999]
["6.4",87530,"SINAPI","Massa única, para recebimento de pintura, em argamassa traço 1:2:8 (cimento, cal hidratada e areia), preparo manual, aplicada manulamente, espessura 2,0 cm, com execução de taliscas (apoio da pia de cozinha e tanque de lavar roupa).","m2",1,16,{"$f":"H27","v":42.64},{"$f":"H29*1.2158","v":51.841712000000001},{"$f":"F29*H29","v":42.64},51.841712000000001,829.46739200000002]
["6.5",87275,"SINAPI","Revestimento cerâmico para paredes internas (h=1,50 m) com placas tipo esmaltada extra de dimensões 33x45 cm, aplicadas em ambiente de área maior que 5,0 m² a meia altura das paredes.","m2",10.02,160.32,73.44,{"$f":"H30*1.2158","v":89.288352000000003},{"$f":"F30*H30","v":735.86879999999996},894.66928703999997,14314.70859264]
["                                                                                                                                                            SUB-TOTAL",null,null,null,null,null,null,null,null,{"$f":"SUM(J26:J30)","v":3115.4679999999998},3787.7859943999997,60604.575910399995]
[7,null,null,"Esquadrias"]
["7.1","ED-50971","SETOP","Fornecimento e assentamento de porta completa, estrutura, dobradiça e marco em chapa dobrada, 60 x 210 cm.","pça",1,{"$f":"F33*16","v":16},511.32,{"$f":"H33*1.2158","v":621.66285600000003},{"$f":"F33*H33","v":511.32},{"$f":"J33*1.2158","v":621.66285600000003},9946.6056960000005]
["7.2",91305,"SINAPI","Fechadura de embutir para porta de banheiro, completa, acabamento padrão popular, incluso execução de furo, fornecimento e instalação.","pça",1,16,106.36,{"$f":"H34*1.2158","v":129.312488},{"$f":"F34*H34","v":106.36},{"$f":"J34*1.2158","v":129.312488},2068.999808]
["7.3",94559,"SINAPI","Janela de aço  basculante, fixação com argamassa,  sem vidros, padronizada (60x60 cm).","m2",0.36,5.76,745.03,{"$f":"H35*1.2158","v":905.80747399999996},{"$f":"F35*H35","v":268.21080000000001},{"$f":"J35*1.2158","v":326.09069063999999},5217.4510502399999]
["7.4","ED-51155","SETOP","Vidro liso comum transparente esp. 3 mm colocado","m2",0.36,5.76,168.49,{"$f":"H36*1.2158","v":204.85014200000001},{"$f":"F36*H36","v":60.656399999999998},{"$f":"J36*1.2158","v":73.74605111999999},1179.9368179199998]
["                                                                                                                                                            SUB-TOTAL",null,null,null,null,null,null,null,null,{"$f":"SUM(J33:J36)","v":946.54719999999986},{"$f":"J37*1.2158","v":1150.8120857599997},18412.993372159995]
[8,null,null,"Pisos interno e externo"]
["8.1",94974,"SINAPI","Concreto magro para lastro, traço 1:4,5:4,5 (cimento/areia média/brita1), preparo manual (contrapiso interno, esp= 6,0 cm).","m³",0.16,{"$f":"F39*16","v":2.56},492.47,{"$f":"H39*1.2158","v":598.74502600000005},{"$f":"F39*H39","v":78.795200000000008},{"$f":"J39*1.2158","v":95.799204160000016},1532.7872665600003]
["8.2",87246,"SINAPI","Revestimento cerâmico para piso com placas tipo grês, dimensões 35x35 cm, aplicada em ambiente de área menor que 5,0 m².","m2",2.63,42.08,66.09,{"$f":"H40*1.2158","v":80.352221999999998},{"$f":"F40*H40","v":173.8167},{"$f":"J40*1.2158","v":211.32634386000001},3381.2215017600001]
["8.3",94994,"SINAPI","Execução de passeio (calçada) com concreto moldado in loco, feito em obra, acabamento convencional, esp = 8 cm, armado.","m2",8.02,128.32,102.92,{"$f":"H41*1.2158","v":125.13013600000001},{"$f":"F41*H41","v":825.41840000000002},{"$f":"J41*1.2158","v":1003.54369072},16056.69905152]
["                                                                                                                                                            SUB-TOTAL",null,null,null,null,null,null,null,null,{"$f":"SUM(J39:J41)","v":1078.0302999999999},{"$f":"J42*1.2158","v":1310.6692387399999},20970.707819839998]
[9,null,null,"Pinturas"]
["9.1","ED-50498","SETOP","Aplicação manual de pintura com tinta látex PVA em paredes - duas demãos","m²",49.72,{"$f":"F44*16","v":795.52},16.760000000000002,{"$f":"H44*1.2158","v":20.376808},{"$f":"F44*H44","v":833.30720000000008},{"$f":"J44*1.2158","v":1013.1348937600001},{"$f":"K44*16","v":16210.158300160001}]
["9.2","ED-50491","SETOP","Pintura de esquadrias em esmalte sintético - duas demãos, incluindo uma demão de fundo anticorrosivo (porta e janela).","m2",3.28,52.48,35.409999999999997,{"$f":"H45*1.2158","v":43.051477999999996},{"$f":"F45*H45","v":116.14479999999998},{"$f":"J45*1.2158","v":141.20884783999998},2259.3415654399996]
["                                                                                                                                                            SUB-TOTAL",null,null,null,null,null,null,null,null,{"$f":"J44+J45","v":949.452},{"$f":"J46*1.2158","v":1154.3437415999999},18469.499865599999]
[10,null,null,"Instalações elétricas"]
["10.1","ED-50227","SETOP","Ponto de embutir para um (1) interruptor simples (10a 250v), com placa 4\"x2\" de um (1) posto, com eletroduto flexível corrugado, antichama, dn 25mm (3/4\"), embutido na alvenaria e cabo de cobre flexível, classe 5, isolamento tipo lshf/atox, não halogenado, seção 1, 5mm2 (70°c-450/750v), com distância de até dez (10) metros do ponto de derivação, inclusive caixa de ligação, suporte e fixação do\neletroduto com enchimento do rasgo na alvenaria/concreto com argamassa","unidade",1,{"$f":"F48*16","v":16},249.86,{"$f":"H48*1.2158","v":303.779788},{"$f":"F48*H48","v":249.86},{"$f":"J48*1.2158","v":303.779788},{"$f":"K48*16","v":4860.4766079999999}]
["10.2",91926,"SINAPI","Cabo de cobre flexível isolado, 2,5 mm², anti-chama 450/750 V, para circuitos terminais - fornecimento e instalação","m",4.75,76,4.47,{"$f":"H49*1.2158","v":5.4346259999999997},{"$f":"F49*H49","v":21.232499999999998},{"$f":"J49*1.2158","v":25.814473499999998},413.03157599999997]
["10.3",97610,"SINAPI","Lâmpada compacta de Led 10 W, base E27","unidade",1,16,14.8,{"$f":"H50*1.2158","v":17.993840000000002},{"$f":"F50*H50","v":14.8},{"$f":"J50*1.2158","v":17.993840000000002},287.90144000000004]
["                                                                                                                                                            SUB-TOTAL",null,null,null,null,null,null,null,null,{"$f":"SUM(J48:J50)","v":285.89250000000004},{"$f":"J51*1.2158","v":347.58810150000005},5561.4096240000008]
[11,null,null,"Instalações hidrossanitárias"]
["11.1",86943,"SINAPI","Fornecimento e instalação de lavatório em louça branca, suspenso, incluso sifão flexível em PVC, válvula e engate flexível plástico de 30 cm, com torneira cromada de mesa.","unidade",1,{"$f":"F53*16","v":16},266.89999999999998,{"$f":"H53*1.2158","v":324.49701999999996},{"$f":"F53*H53","v":266.89999999999998},{"$f":"J53*1.2158","v":324.49701999999996},{"$f":"K53*16","v":5191.9523199999994}]
["11.2","86888","SINAPI","Vaso sanitário sifonado com caixa acoplada louça branca - Fornecimento e instalação. AF_01/2020","unidade",1,16,497.98,{"$f":"H54*1.2158","v":605.44408399999998},{"$f":"F54*H54","v":497.98},{"$f":"J54*1.2158","v":605.44408399999998},9687.1053439999996]
["11.3",36790,"SINAPI-I","Tanque duplo de lavar roupa em mármore sintético com cuba lisa e esfregador 60 x 120 cm.","unidade",1,16,300.5,{"$f":"H55*1.2158","v":365.34789999999998},{"$f":"F55*H55","v":300.5},{"$f":"J55*1.2158","v":365.34789999999998},5845.5663999999997]
["11.4","ED-50013","SETOP","Fornecimento e instalação de caixa de espuma  em PVC, 250x230x75mm, tubo de PVC 50 mm e tampa e porta tampa.","unidade",1,16,146.35,177.93232999999998,146.35,177.93232999999998,2846.9172799999997]
["11.5",86934,"SINAPI","Fornecimento e instalação de pia de cozinha de marmorite sintético (1,20 X 0,60 m), incluindo torneira cromada de 1/2 \", válvula em plástico branco, sifão de plástico.","unidade",1,16,423.51,514.903458,423.51,514.903458,8238.455328]
["11.6","ED-50013","SETOP","Fornecimento e instalação de caixa de gordura em PVC, 250x230x75mm, tubo de PVC 50 mm e tampa e porta tampa.","unidade",1,16,146.35,177.93232999999998,146.35,177.93232999999998,2846.9172799999997]
["11.7",34637,"SINAPI","Fornecimento e instalação de caixa d`água de polietileno com tampa, capacidade 500 litros, sem acessórios.","unidade",1,16,296.54000000000002,360.53333200000003,296.54000000000002,360.53333200000003,5768.5333120000005]
["11.8",94975,"SINAPI","Base de sustentação da caixa d`água (1,00 x 1,00 x 0,05 m) concreto armado  FCK - 15 Mpa, preparo manual","m3",0.05,0.8,528.71,642.80561800000009,26.435500000000005,32.140280900000008,514.24449440000012]
["11.9",100860,"SINAPI","Fornecimento e instalação de chuveiro elétrico com corpo de plástico simples","unidade",1,16,102.17,124.21828600000001,102.17,124.21828600000001,1987.4925760000001]
["11.10","ED-49878","SETOP","Caixa de esgoto de inspeção/passagem em alvenaria (50x50x45cm), revestimento em argamassa com aditivo impermeabilizante, com tampa de concreto, inclusive escavação, reaterro e retirada do material escavado.","Unidade",1,16,293.86,357.27498800000001,293.86,357.27498800000001,5716.3998080000001]
["11.11",94650,"SINAPI","Fornecimento e instalação de tubo de PVC, série normal, esgoto predial, DN 40 mm, instalado na caixa de inspeção, junto à parede do banheiro, em prumada de ventilação.","m",3,48,18.39,22.358561999999999,55.17,67.075686000000005,1073.2109760000001]
["11.12","Composição","SINAPI","Instalação hidro-sanitária do módulo - conforme composição anexa.","unidade",1,16,886.34,1077.6121720000001,886.34,1077.6121720000001,17241.794752000002]
["                                                                                                                                                            SUB-TOTAL",null,null,null,null,null,null,null,null,{"$f":"SUM(J53:J64)","v":3442.1055000000006},{"$f":"J65*1.2158","v":4184.9118669000009},66958.589870400014]
[12,null,null,"Tanque séptico"]
["12.1","ED-51108","SETOP",{"$f":"PROPER(\"ESCAVAÇÃO MANUAL DE VALAS 1,50 M < H <= 3,00 M\")","v":"Escavação Manual De Valas 1,50 M < H <= 3,00 M"},"m3",5,{"$f":"F67*16","v":80},101.95,{"$f":"H67*1.2158","v":123.95081},{"$f":"F67*H67","v":509.75},{"$f":"J67*1.2158","v":619.75405000000001},{"$f":"K67*16","v":9916.0648000000001}]
["12.2","ED-29582","SETOP","Armadura de tela de aço soldada nervurada Q-138, aço CA-60, 4,2mm, malha 15X15cm para o piso (fundo)","m²",1.62,25.92,27.24,33.118392,{"$f":"F68*H68","v":44.128799999999998},53.651795039999996,858.42872063999994]
["12.3",94975,"SINAPI","Piso (fundo) em concreto FCK 15 Mpa, traço 1:3,4:3,5 (cimento/areia média/brita 1)","m3",0.33,5.28,528.71,642.80561800000009,174.47430000000003,212.12585394000004,3394.0136630400007]
["12.4","ED-48231","SINAPI","Alvenaria de vedação com tijolo cerâmico furado, Esp.9 cm, para revestimento, inclusive argamassa para assentamento.","m2",9.2799999999999994,148.47999999999999,57.1,69.422179999999997,529.88799999999992,644.23783039999989,10307.805286399998]
["12.5",87878,"SINAPI","Chapisco de parede, com argamassa de cimento e areia, espessura 0,5 cm, traço 1:3, aplicado com colher de pedreiro","m2",8.64,138.24,5.22,6.346476,45.1008,54.833552640000001,877.33684224000001]
["12.6",87530,"SINAPI","Massa única, para recebimento de pintura, em argamassa traço 1:2:8, preparo manual, aplicada manulamente, espessura 2,0 cm, com execução de taliscas ","m2",8.64,138.24,42.64,51.841712000000001,368.40960000000001,447.91239167999998,7166.5982668799998]
["12.7",89714,"SINAPI","Tubo de PVC, série normal, esgoto predial, DN 100 mm, fornecido e instalado em ramal de descarga ou ramal de esgoto sanitário","m",6,96,40.11,48.765737999999999,240.66,292.59442799999999,4681.5108479999999]
["12.8",89796,"SINAPI","Fornecimento e assentamento de T de PVC esgoto de 100mm","Unidade",2,32,43.15,52.461770000000001,86.3,104.92354,1678.77664]
["12.9",94975,"SINAPI","Placa  de contenção pré-fabricada de concreto, medidias 1,00x0,60x0,05 m para direcionamento do esgoto  para o fundo, conforme desenho.","m3",0.03,0.48,528.71,642.80561800000009,15.8613,19.28416854,308.54669663999999]
["12.10",92423,"SINAPI","Montagem e desmontagem de forma para confecção da tampa com área média das seções maior que 0,25 m², em chapa de madeira compensada resinada , 6 utilizações","m²",2,32,75.040000000000006,91.233632,150.08000000000001,182.467264,2919.476224]
["12.11","ED-29582","SETOP","Armadura de tela de aço soldada nervurada Q-138, aço CA-60, 4,2mm, malha 15X15cm para a tampa\n","m²",2.2000000000000002,35.200000000000003,27.24,33.118392,59.928000000000004,72.860462400000003,1165.7673984]
["12.12",94975,"SINAPI","Tampas em placas pré-moldadas em concreto armado FCK-15Mpa esp. 7 cm","m3",0.15,2.4,528.71,642.80561800000009,79.3065,96.420842699999994,1542.7334831999999]
["                                                                                                                                                            SUB-TOTAL",null,null,null,null,null,null,null,null,{"$f":"SUM(J67:J78)","v":2303.8872999999999},{"$f":"J79*1.2158","v":2801.06617934},44817.058869439999]
[13,null,null,"Filtro anaeróbico"]
["13.1","ED-51108","SETOP",{"$f":"PROPER(\"ESCAVAÇÃO MANUAL DE VALAS 1,50 M < H <= 3,00 M\")","v":"Escavação Manual De Valas 1,50 M < H <= 3,00 M"},"m³",3,{"$f":"F81*16","v":48},101.95,{"$f":"H81*1.2158","v":123.95081},{"$f":"F81*H81","v":305.85000000000002},{"$f":"J81*1.2158","v":371.85243000000003},{"$f":"K81*16","v":5949.6388800000004}]
["13.2",94975,"SINAPI","Alvenaria de vedação em concreto armado, espessura 10 cm","m³",0.66,10.56,528.71,642.80561800000009,{"$f":"F82*H82","v":348.94860000000006},424.25170788000008,6788.0273260800013]
["13.3",32,"SINAPI","Aço CA 50, 6,3 mm para alvenaria de vedação","Kg",21.44,343.04,8.16,9.920928,174.9504,212.70469632000001,3403.2751411200002]
["13.4","ED-48298","SETOP","Corte, dobra e montagem de aço CA-50, 6,3 mm","Kg",21.44,343.04,13.96,16.972568000000003,299.30240000000003,363.89185792000006,5822.269726720001]
["13.5",98562,"SINAPI","Impermeabilização de superficie com argamasa de cimento e areia grossa, traço 1:4, com aditivo impermeabilizante, espessura = 1,50 cm.","m2",6.59,105.44,53.04,64.486031999999994,349.53359999999998,424.96295087999999,6799.4072140799999]
["13.6",92423,"SINAPI","Montagem e desmontagem de forma para confecção da tampa com área média das seções maior que 0,25 m², em chapa de madeira compensada resinada , 6 utilizações","m²",1.54,24.64,75.040000000000006,91.233632,115.56160000000001,140.49979328000001,2247.9966924800001]
["13.7","ED-29582","SETOP","Armadura de tela de aço soldada nervurada Q-138, aço CA-60, 4,2mm, malha 15X15cm para a tampa\n","m²",1.54,24.64,27.24,33.118392,41.949599999999997,51.002323679999996,816.03717887999994]
["13.8",94975,"SINAPI","Execução de tampa em concreto armado FCK-15Mpa, espessura 5 cm","m3",0.08,1.28,528.71,642.80561800000009,42.296800000000005,51.424449440000004,822.79119104000006]
["13.9",89829,"SINAPI","TE, PVC, série normal, esgoto predial, DN 75 x 75 mm, junta soldável, fornecido em ramal de descarga, ou ramal de esgoto sanitário.","Unidade",2,32,35.82,43.549956000000002,71.64,87.099912000000003,1393.5985920000001]
["13.10",89808,"SINAPI","Curva longa, 90 graus, PVC, série normal, esgoto predial, DN 75 mm, junta elástica, fornecido em prumada de esgoto predial ou ventilação","Unidade",1,16,57.92,70.419135999999995,57.92,70.419135999999995,1126.7061759999999]
["13.11",89713,"SINAPI","Tubo PVC Série Normal, esgoto predial, DN 75 mm, fornecido em ramal de descarga ou ramal de esgoto sanitário","m",4,64,35.81,43.537798000000002,143.24,174.15119200000001,2786.4190720000001]
["13.12",12910,"SINAPI","CAP PVC, Soldável, DN 75 mm, Série normal, para esgoto predial","Unidade",1,16,8,9.7263999999999999,8,9.7263999999999999,155.6224]
["13.13",297,"SINAPI","Anel de borracha para tubo de esgoto predial DN 75 mm (NBR 5688)","Unidade",6,96,2.42,2.9422359999999999,14.52,17.653416,282.454656]
["13.14","ED-29582","SETOP","Armadura de tela de aço soldada nervurada Q-138, aço CA-60, 4,2mm, malha 10X10cm para a base das calha\n","m²",0.5,8,27.24,33.118392,13.62,16.559196,264.947136]
["13.15","ED-48229","SETOP","Calha em alvenaria de tijolo cerâmico maciço 5x10x20 (largura 10 cm) assentado com argamassa traço 1:2:8 (cimento, cal e areia), para escoamento do efluente para o sumidouro","m²",0.26,4.16,142.15,172.82597000000001,36.959000000000003,44.934752200000005,718.95603520000009]
["13.16",87878,"SINAPI","Chapisco de parede, com argamassa de cimento e areia, espessura 0,5 cm, traço 1:3, aplicado com colher de pedreiro","m²",0.52,8.32,5.22,6.346476,2.7143999999999999,3.30016752,52.80268032]
["13.17",87530,"SINAPI","Massa única, para recebimento de pintura, em argamassa traço 1:2:8, preparo manual, aplicada manulamente, espessura 2,0 cm, com execução de taliscas ","m²",0.52,8.32,42.64,51.841712000000001,22.172800000000002,26.957690240000002,431.32304384000003]
["13.18",94975,"SINAPI","Placa de concreto Fck = 15 Mpa  para a base da calha, 5x36x130 (espessura 5 cm), conforme desenho","m³",0.02,0.32,528.71,642.80561800000009,10.574200000000001,12.856112360000001,205.69779776000001]
["13.19","73873/002 (RT-Jan/2020","SINAPI","Leito filtrante - fornecimento e enchimento com brita N° 4","m³",1.1299999999999999,18.079999999999998,170.84,207.70727199999999,193.04919999999998,234.70921735999997,3755.3474777599995]
["13.20",94975,"SINAPI","Execução de fundo em concreto armado FCK-15 Mpa, espessura 6 cm, conforme desenho.","m³",0.09,1.44,528.71,642.80561800000009,47.5839,57.852505620000002,925.64008992000004]
["13.21","ED-29582","SETOP","Armadura de tela de aço soldada nervurada Q-138, aço CA-60, 4,2mm, malha 15X15cm para o fundo do filtro\n","m³",1.54,24.64,27.24,33.118392,41.949599999999997,51.002323679999996,816.03717887999994]
["13.22",94975,"SINAPI","Execução da placa perfurada, com furos de diâmetro 3/4\" a cada 15 cm, confeccionada  em concreto armado, 7 cm de espessura, conforme detalhamento no projeto","M³",0.11,1.76,528.71,642.80561800000009,58.158100000000005,70.70861798,1131.33788768]
["13.23",32,"SINAPI","Aço CA 50, 6,3 mm para alvenaria de vedação","Kg",4.5,72,8.16,9.920928,36.72,44.644176000000002,714.30681600000003]
["13.24","ED-48298","SETOP","Corte, dobra e montagem de aço CA-50, 6,3 mm","Kg",4.5,72,13.96,16.972568000000003,62.820000000000007,76.376556000000008,1222.0248960000001]
["13.25",90696,"SINAPI","Tubo PVC Série Normal, esgoto predial, DN 200 mm (tubo guia para limpeza)","m",1.3,20.8,144.77000000000001,176.01136600000001,188.20100000000002,228.81477580000004,3661.0364128000006]
["                                                                                                                                                            SUB-TOTAL",null,null,null,null,null,null,null,null,{"$f":"SUM(J81:J105)","v":2688.2352000000001},{"$f":"J106*1.2158","v":3268.3563561599999},52293.701698559998]
[14,null,null,"Sumidouro"]
["14.1","ED-51108","SETOP",{"$f":"PROPER(\"ESCAVAÇÃO MANUAL DE VALAS 1,50 M < H <= 3,00 M\")","v":"Escavação Manual De Valas 1,50 M < H <= 3,00 M"},"m3",2.94,{"$f":"F108*16","v":47.04},101.95,{"$f":"H108*1.2158","v":123.95081},{"$f":"F108*H108","v":299.733},{"$f":"J108*1.2158","v":364.4153814},{"$f":"K108*16","v":5830.6461024}]
["14.2","ED-48227","SETOP","Alvenaria de tijolo cerâmico maciço (5x10x20 cm), 1/2 vez (10 cm),  junta aberta, assentado com argamassa traço 1:2:8 (cimento, cal e areia)","m2",7.54,120.64,138.72,168.655776,{"$f":"F109*H109","v":1045.9487999999999},1271.6645510399999,20346.632816639998]
["14.3",7765,"SINAPI","Fornecimento e assentamento de tubo de concreto armado, classe PA-2, PB DN 1000 mm, para águas pluviais (NBR 8890)","m",0.5,8,437.14,531.47481199999993,218.57,265.73740599999996,4251.7984959999994]
["14.4",89737,"SINAPI","Joelho 90 graus, PVC, série normal, esgoto predial, DN 75 mm, junta elástica, fornecido e instalado em ramal de descarga ou ramal de esgoto sanitário.","Unidade",1,16,22.72,27.622975999999998,22.72,27.622975999999998,441.96761599999996]
["14.5",92423,"SINAPI","Montagem e desmontagem de forma para confecção da tampa com área média das seções maior que 0,25 m², em chapa de madeira compensada resinada , 6 utilizações","m²",1.1299999999999999,18.079999999999998,75.040000000000006,91.233632,84.795199999999994,103.09400416,1649.50406656]
["14.6","ED-29582","SETOP","Armadura de tela de aço soldada nervurada Q-138, aço CA-60, 4,2mm, malha 15X15cm para a tampa\n","m²",1.1299999999999999,18.079999999999998,27.24,33.118392,30.781199999999995,37.423782959999997,598.78052735999995]
["14.7",94975,"SINAPI","Tampa em concreto armado FCK-15Mpa esp. 7 cm","m3",0.08,1.28,528.71,642.80561800000009,42.296800000000005,51.424449440000004,822.79119104000006]
["14.8","ED-49813","SETOP","Fornecimento e colocação Berço de brita no 2 – camada de 50 cm","m3",0.39,6.24,197.39,239.98676199999997,76.982100000000003,93.594837179999999,1497.51739488]
["                                                                                                                                                            SUB-TOTAL",null,null,null,null,null,null,null,null,{"$f":"SUM(J108:J115)","v":1821.8270999999997},{"$f":"J116*1.2158","v":2214.9773881799997},35439.638210879995]
["TOTAL SEM B.D.I.",null,null,null,null,null,null,null,null,{"$f":"SUM(J8+J12+J16+J19+J24+J31+J37+J42+J46+J51+J65+J79+J106+J116)","v":20498.952699999998}]
["VALOR ACRESCIDO DE B.D.I.(21,58%) ",null,null,null,null,null,null,null,null,{"$f":"J117*0.2158","v":4423.6739926599994}]
["TOTAL DE CADA MÓDULO",null,null,null,null,null,null,null,null,{"$f":"J117+J118","v":24922.626692659996},"TOTAL COM TODOS OS MÓDULOS",{"$f":"L8+L12+L16+L19+L24+L31+L37+L42+L46+L51+L65+L79+L106+L116","v":398762.02708255994}]

{"sheet":"Composição","index":2,"n_rows":59,"n_cols":7,"rows_kept":59,"cut":false,"hidden":false,"merged":[[58,0,58,4],[34,0,34,4],[40,0,40,4],[44,0,44,4],[53,0,53,4],[57,0,57,4],[26,0,26,4],[0,0,0,6],[1,1,1,5],[2,1,2,5],[11,0,11,4],[18,0,18,4]]}
["PREFEITURA MUNICIPAL DE xxxxxxxxxxxxxx"]
[null,"INSTALAÇÃO HIDROSANITÁRIA DO MÓDULO"]
[null,"SINAPI INSUMOS - Fevereiro/2025"]
[1,"Instalação hidráulica","Unidade","Quantidade Prevista","Valor Unitário","Valor Total Sem BDI","Código SINAPI"]
["1.1","Entrada d`água no reservatório"]
["1.1.1","Tee PVC SOLD 90G p/ água fria predial de 20 mm","und",1,1,{"$f":"D6*E6","v":1},7138]
["1.1.2","Tubo de PVC rígido soldável PB - água fria predial 20mm","m",12,3.47,41.64,9867]
["1.1.3","Adaptador de PVC rígido com rosca e flange para caixa d`água - 20mm","und",2,15.35,30.7,"000067"]
["1.1.5","Joelho PVC SOLD 90G p/ água fria predial de 20mm","und",4,0.56000000000000005,2.2400000000000002,3542]
["1.1.6","Torneira bóia em metal com balão plástico e haste metálica  de 1/2'","und",1,24.73,24.73,11829]
["1.1.7","Luva PVC soldável e com rosca p/água fria predial 20mm","und",1,1.44,1.44,"003883"]
["SUB-TOTAL",null,null,null,null,{"$f":"SUM(F6:F11)","v":101.75}]
["1.2","Saída d`água do reservatório"]
["1.2.1","Tubo de PVC rígido soldável PB - água fria predial 25mm","m",6,3.92,{"$f":"D14*E14","v":23.52},9868]
["1.2.2","Registro de gaveta 3/4\" bruto de metal","und",1,49.01,{"$f":"D15*E15","v":49.01},6016]
["1.2.3","Joelho PVC com rosca 90G p/ água fria predial 25mm","und",1,2.4700000000000002,{"$f":"D16*E16","v":2.4700000000000002},3505]
["1.2.4","Adaptador de PVC rígido com rosca e flange  longo para caixa d`água - 25mm","und",1,14.69,{"$f":"D17*E17","v":14.69},"000073"]
["1.2.5","Joelho PVC SOLD 90G p/ água fria predial de 25mm","und",1,0.69,{"$f":"D18*E18","v":0.69},3529]
["SUB-TOTAL",null,null,null,null,{"$f":"SUM(F14:F18)","v":90.38}]
["1.3","No chuveiro"]
["1.3.1","Tee PVC SOLD 90G p/ água fria predial de 25 mm","und",1,1.1299999999999999,{"$f":"D21*E21","v":1.1299999999999999},7139]
["1.3.2","Tubo de PVC rígido soldável PB - água fria predial 25mm","m",6,{"$f":"E14","v":3.92},23.52,9868]
["1.3.2","Joelho PVC SOLD 90G p/ água fria predial de  25mm","und",3,{"$f":"E18","v":0.69},2.0699999999999998,3529]
["1.3.3","Luva PVC soldável e com rosca p/água fria predial 25mm","und",1,2.2799999999999998,2.2799999999999998,3884]
["1.3.4","Registro de pressão 1/2\" bruto de metal","und",1,32.93,32.93,11752]
["1.3.5","Caixa sifonada PVC 150x150x50 mm quadrado, com grelha","und",1,40.200000000000003,40.200000000000003,11712]
["SUB-TOTAL",null,null,null,null,{"$f":"SUM(F21:F26)","v":102.13}]
[2,"Instalação sanitária"]
["2.1","Tanque de lavar roupa"]
["2.1.1","Tubo PVC 40 mm","m",3,6.47,{"$f":"D30*E30","v":19.41},9835]
["2.1.2","Joelho PVC 40 mm","unid.",3,2.1,{"$f":"D31*E31","v":6.3000000000000007},3517]
["2.1.3","Tee de PVC 40 mm","unid.",1,3.66,{"$f":"D32*E32","v":3.66},7116]
["2.1.4","Luva solda/rosca 25 mm/1/2\"","unid.",2,1.73,{"$f":"D33*E33","v":3.46},3856]
["2.1.5","Torneira de metal de 1/2\"","unid.",2,40.229999999999997,{"$f":"D34*E34","v":80.459999999999994},7603]
["SUB-TOTAL",null,null,null,null,{"$f":"SUM(F30:F34)","v":113.28999999999999}]
["2.2","Pia de cozinha"]
["2.2.1","Tubo PVC 40 mm","m",3,{"$f":"E30","v":6.47},{"$f":"D37*E37","v":19.41},9835]
["2.2.2","Joelho PVC 40 mm","unid.",1,{"$f":"E31","v":2.1},{"$f":"D38*E38","v":2.1},3517]
["2.2.3","Tee de PVC 40 mm","unid.",1,{"$f":"E32","v":3.66},{"$f":"D39*E39","v":3.66},7116]
["2.2.4","Luva solda/rosca 25 mm/1/2\"","unid.",1,{"$f":"E33","v":1.73},{"$f":"D40*E40","v":1.73},3856]
["SUB-TOTAL",null,null,null,null,{"$f":"SUM(F37:F40)","v":26.900000000000002}]
["2.3","Lavatório"]
["2.3.1","Tubo PVC 40 mm","m",3,{"$f":"E30","v":6.47},{"$f":"D43*E43","v":19.41},9835]
["2.3.2","Joelho PVC 40 mm","unid.",1,{"$f":"E31","v":2.1},{"$f":"D44*E44","v":2.1},3517]
["SUB-TOTAL",null,null,null,null,{"$f":"SUM(F43:F44)","v":21.51}]
["2.4","Vaso sanitário"]
["2.4.1","Tubo PVC 100 mm","m",6,14.82,{"$f":"D47*E47","v":88.92},9836]
["2.4.2","Joelho PVC 100 mm","unid.",1,9.09,{"$f":"D48*E48","v":9.09},3528]
["2.4.3","Tee PVC 100 mm","unid.",1,15.91,15.91,7091]
["2.4.4","Parafuso castelo","Unid.",2,5.33,10.66,11955]
["2.4.5","Tê PVC soldável 90 G, para água fria predial, 20 mm","Unid.",1,1,1,7138]
["2.4.6","Joelho de PVC esgoto 20 mm","Unid.",1,1.07,1.07,3499]
["2.4.7","Adaptador curto 20 mm","Unid.",1,0.77,0.77,"000107"]
["SUB-TOTAL",null,null,null,null,{"$f":"SUM(F47:F53)","v":127.41999999999999}]
[3,"Mão de Obra"]
["3.1","Encanador ou bombeiro hidráulico","hora",8,21.57,{"$f":"D56*E56","v":172.56},2696]
["3.2","Ajudante de instalador hidráulico","hora",8,16.3,{"$f":"D57*E57","v":130.4},6127]
["SUB-TOTAL ",null,null,null,null,{"$f":"SUM(F56:F57)","v":302.96000000000004}]
["TOTAL SEM B.D.I.",null,null,null,null,{"$f":"SUM(F12,F19,F27,F35,F41,F45,F54,F58)","v":886.33999999999992}]

{"sheet":"Placa de obras","index":3,"n_rows":18,"n_cols":7,"rows_kept":18,"cut":false,"hidden":false,"merged":[[15,0,15,5],[16,2,16,5],[17,0,17,5],[9,1,9,6],[10,0,11,0],[10,1,11,1],[10,2,11,2],[10,3,11,3],[10,4,11,4],[10,5,10,6],[5,0,8,2],[5,4,5,6],[6,3,6,6],[8,3,8,4],[0,0,0,6],[1,0,1,6],[2,0,2,6],[3,0,3,6],[4,0,4,6]]}
["Prefeitura Municipal de xxxxxxxxxxxxxxx"]
[]
["PLANILHA ORÇAMENTÁRIA DE CUSTOS "]
["PLACA DE OBRA EM CHAPA GALVANIZADA COM PINTURA ESMALTE"]
[]
[null,null,null,null,"SEINFRA/Jan/2025"]
[null,null,null,"FORMA DE EXECUÇÃO: "]
[null,null,null,"(    )","DIRETA","(  x  )","INDIRETA"]
[null,null,null,null,null,"BDI",0.21579999999999999]
["OBRA:","Melhorias sanitárias Domiciliares"]
["ITEM","Cód. SETOP","DESCRIÇÃO","UND","QUANT","PREÇO"]
[null,null,null,null,null,"UNIT.","TOTAL"]
[]
[1,null,"PLACA DE OBRA PADRÃO FUNASA"]
["1.1","ED-28427","FORNECIMENTO E COLOCAÇÃO DE PLACA DE OBRA EM CHAPA GALVANIZADA (3,00 X 1,5 0 M) - EM CHAPA GALVANIZADA 0,26 AFIXADAS COM REBITES 540 E PARAFUSOS 3/8, EM ESTRUTURA METÁLICA VIGA U 2\" ENRIJECIDA COM METALON 20 X 20, SUPORTE EM EUCALIPTO AUTOCLAVADO PINTADO\nCOM TINTA PVA DUAS (2) DEMÃOS","Unid",1,1018.19,{"$f":"ROUND(E15*F15,2)","v":1018.19}]
[null,null,null,null,null,null,{"$f":"SUM(G15)","v":1018.19}]
[null,null,"B.D.I ",null,null,null,{"$f":"G15*0.2158","v":219.725402}]
["TOTAL COM BDI",null,null,null,null,null,{"$f":"SUM(G16+G17)","v":1237.9154020000001}]

{"sheet":"Resumo","index":4,"n_rows":16,"n_cols":6,"rows_kept":16,"cut":false,"hidden":false,"merged":[[1,0,1,4],[9,0,9,4]]}
[]
["RESUMO DAS PLANILHAS ORÇAMENTÁRIAS"]
[]
["Prefeitura Municipal de "]
["Convênio: "]
[]
[]
[]
[]
["Melhorias Sanitárias Domiciliares"]
["Discriminação","Unidade","Quantidade","Valor Unitário","Valor Total"]
["Melhorias Sanitárias com esgoto ligado à tanque séptico, filtro anaeróbio e sumidouro ","Unidade",16,24922.63,{"$f":"C12*D12","v":398762.08}]
["Placa de obras","Unidade",1,{"$f":"'Placa de obras'!G18","v":1237.9154020000001},{"$f":"C13*D13","v":1237.9154020000001}]
["TOTAL","-","-","-",{"$f":"SUM(E12:E13)","v":399999.99540200003}]
[null,null,null,null,400000]
[null,null,null,"AL (3,49%)",13960,{"$f":"E16/C12","v":872.5}]

{"sheet":"Crono","index":5,"n_rows":31,"n_cols":15,"rows_kept":31,"cut":false,"hidden":false,"merged":[[7,0,7,14],[9,0,10,0],[9,1,10,1],[9,2,9,7],[9,14,10,14]]}
[]
["Prefeitura Municipal de "]
["Convênio: "]
[]
[]
["Melhorias Sanitárias Domiciliares"]
[]
["Cronograma Físico-Financeiro"]
[]
["Item","Descrição","c",null,null,null,null,null,null,null,null,null,null,null,"TOTAL"]
[null,null,"Mês 1","Mês 2","Mês 3","Mês 4","Mês 5","Mês 6","Mês 7","Mês 8","Mês 9","Mês 10","Mês 11","Mês 12"]
[1,"Placa de Obras modelo FUNASA "]
[null,"Físico",1,null,null,null,null,null,null,null,null,null,null,null,{"$f":"C13","v":1}]
[null,"Financeiro",{"$f":"Resumo!E13","v":1237.9154020000001},null,null,null,null,null,null,null,null,null,null,null,{"$f":"C14","v":1237.9154020000001}]
[null,"Percentual",{"$f":"C14/O29","v":4.6398651668537174E-3},null,null,null,null,null,null,null,null,null,null,null,{"$f":"C15","v":4.6398651668537174E-3}]
[2,"Módulos Sanitários ligados a Tanque séptico, Filtro Anaeróbio e Sumidouro"]
[null,"Físico",2,1,1,2,1,1,2,1,1,1,1,1,16]
[null,"Financeiro",{"$f":"C17*[1]RESUMO!D4","v":0},{"$f":"D17*[1]RESUMO!D4","v":0},{"$f":"E17*[1]RESUMO!D4","v":0},{"$f":"F17*[1]RESUMO!D4","v":0},{"$f":"G17*[1]RESUMO!D4","v":0},{"$f":"H17*[1]RESUMO!D4","v":0},{"$f":"I17*[1]RESUMO!D4","v":0},{"$f":"J17*[1]RESUMO!D4","v":0},{"$f":"K17*[1]RESUMO!D4","v":0},{"$f":"L17*[1]RESUMO!D4","v":0},{"$f":"M17*[1]RESUMO!D4","v":0},{"$f":"N17*[1]RESUMO!D4","v":0},{"$f":"SUM(C18:N18)","v":0}]
[null,"Percentual",{"$f":"C18*[1]RESUMO!D5","v":0},{"$f":"D18*[1]RESUMO!D5","v":0},{"$f":"E18*[1]RESUMO!D5","v":0},{"$f":"F18*[1]RESUMO!D5","v":0},{"$f":"G18*[1]RESUMO!D5","v":0},{"$f":"H18*[1]RESUMO!D5","v":0},{"$f":"I18*[1]RESUMO!D5","v":0},{"$f":"J18*[1]RESUMO!D5","v":0},{"$f":"K18*[1]RESUMO!D5","v":0},{"$f":"L18*[1]RESUMO!D5","v":0},{"$f":"M18*[1]RESUMO!D5","v":0},{"$f":"N18*[1]RESUMO!D5","v":0},{"$f":"SUM(C19:N19)","v":0}]
[null,"Sub-total",{"$f":"C19/O22","v":{"$error":"#DIV/0!"}},{"$f":"D19/O22","v":{"$error":"#DIV/0!"}},{"$f":"E19/O22","v":{"$error":"#DIV/0!"}},{"$f":"F19/O22","v":{"$error":"#DIV/0!"}},{"$f":"G19/O22","v":{"$error":"#DIV/0!"}},{"$f":"H19/O22","v":{"$error":"#DIV/0!"}},{"$f":"I19/O22","v":{"$error":"#DIV/0!"}},{"$f":"J19/O22","v":{"$error":"#DIV/0!"}},{"$f":"K19/O22","v":{"$error":"#DIV/0!"}},{"$f":"L19/O22","v":{"$error":"#DIV/0!"}},{"$f":"M19/O22","v":{"$error":"#DIV/0!"}},{"$f":"N19/O22","v":{"$error":"#DIV/0!"}},{"$f":"SUM(C20:N20)","v":{"$error":"#DIV/0!"}}]
[null,"Sub-total acumulado",{"$f":"C19","v":0},{"$f":"SUM(D19)","v":0},{"$f":"SUM(E19)","v":0},{"$f":"SUM(F19)","v":0},{"$f":"SUM(G19)","v":0},{"$f":"H19","v":0},{"$f":"SUM(I19)","v":0},{"$f":"SUM(J19)","v":0},{"$f":"K19","v":0},{"$f":"L19","v":0},{"$f":"M19","v":0},{"$f":"N19","v":0},{"$f":"O19","v":0}]
[null,"Percentual ",{"$f":"C7+C21","v":0},{"$f":"C22+D21","v":0},{"$f":"D22+E21","v":0},{"$f":"SUM(E22+F21)","v":0},{"$f":"F22+H21","v":0},{"$f":"G22+H21","v":0},{"$f":"H22+I21","v":0},{"$f":"I22+J21","v":0},{"$f":"J22+K21","v":0},{"$f":"K22+L21","v":0},{"$f":"L22+M21","v":0},{"$f":"M22+N21","v":0},{"$f":"O7+O19","v":0}]
[null,"Percentual acumulado",{"$f":"C22/O22","v":{"$error":"#DIV/0!"}},{"$f":"SUM(D20)","v":{"$error":"#DIV/0!"}},{"$error":"#DIV/0!"},{"$error":"#DIV/0!"},{"$error":"#DIV/0!"},{"$error":"#DIV/0!"},{"$error":"#DIV/0!"},{"$error":"#DIV/0!"},{"$f":"K20","v":{"$error":"#DIV/0!"}},{"$f":"L20","v":{"$error":"#DIV/0!"}},{"$f":"SUM(M20)","v":{"$error":"#DIV/0!"}},{"$f":"SUM(N20)","v":{"$error":"#DIV/0!"}}]
[3,"Módulos Sanitários ligados a rede pública"]
[null,"Físico",2,1,1,2,1,1,2,1,1,1,1,1,{"$f":"SUM(C25:N25)","v":15}]
[null,"Financeiro",{"$f":"C25*[1]RESUMO!D12","v":35408.26},{"$f":"D25*[1]RESUMO!D12","v":17704.13},{"$f":"E25*[1]RESUMO!D12","v":17704.13},{"$f":"F25*[1]RESUMO!D12","v":35408.26},{"$f":"G25*[1]RESUMO!D12","v":17704.13},{"$f":"H25*[1]RESUMO!D12","v":17704.13},{"$f":"I25*[1]RESUMO!D12","v":35408.26},{"$f":"J25*[1]RESUMO!D12","v":17704.13},{"$f":"K25*[1]RESUMO!D12","v":17704.13},{"$f":"L25*[1]RESUMO!D12","v":17704.13},{"$f":"M25*[1]RESUMO!D12","v":17704.13},{"$f":"N25*[1]RESUMO!D12","v":17704.13},{"$f":"SUM(C26:N26)","v":265561.95}]
[null,"Percentual",{"$f":"C26/O29","v":0.13271468464441949},{"$f":"D26/O29","v":6.6357342322209745E-2},{"$f":"E26/O29","v":6.6357342322209745E-2},{"$f":"F26/O29","v":0.13271468464441949},{"$f":"G26/O29","v":6.6357342322209745E-2},{"$f":"H26/O29","v":6.6357342322209745E-2},{"$f":"I26/O29","v":0.13271468464441949},{"$f":"J26/O29","v":6.6357342322209745E-2},{"$f":"K26/O29","v":6.6357342322209745E-2},{"$f":"L26/O29","v":6.6357342322209745E-2},{"$f":"M26/O29","v":6.6357342322209745E-2},{"$f":"N26/O29","v":6.6357342322209745E-2},{"$f":"SUM(C27:N27)","v":0.995360134833146}]
[null,"Sub-total",{"$f":"C26","v":35408.26},{"$f":"SUM(D26)","v":17704.13},{"$f":"SUM(E26)","v":17704.13},{"$f":"SUM(F26)","v":35408.26},{"$f":"SUM(G26)","v":17704.13},{"$f":"H26","v":17704.13},{"$f":"SUM(I26)","v":35408.26},{"$f":"SUM(J26)","v":17704.13},{"$f":"K26","v":17704.13},{"$f":"L26","v":17704.13},{"$f":"M26","v":17704.13},{"$f":"N26","v":17704.13},{"$f":"O26","v":265561.95}]
[null,"Sub-total acumulado",{"$f":"C14+C28","v":36646.175402000001},{"$f":"C29+D28","v":54350.305401999998},{"$f":"D29+E28","v":72054.435402000003},{"$f":"SUM(E29+F28)","v":107462.69540200001},{"$f":"F29+H28","v":125166.82540200002},{"$f":"G29+H28","v":142870.95540200002},178279.21540200003,195983.34540200004,213687.47540200004,231391.60540200004,249095.73540200005,{"$f":"M29+N28","v":266799.86540200002},{"$f":"O14+O26","v":266799.86540200002}]
[null,"Percentual ",{"$f":"C29/O29","v":0.13735454981127321},{"$f":"SUM(D27)","v":6.6357342322209745E-2},6.6357342322209745E-2,0.13271468464441949,6.6357342322209745E-2,6.6357342322209745E-2,0.13271468464441949,6.6357342322209745E-2,{"$f":"K27","v":6.6357342322209745E-2},{"$f":"L27","v":6.6357342322209745E-2},{"$f":"SUM(M27)","v":6.6357342322209745E-2},{"$f":"SUM(N27)","v":6.6357342322209745E-2}]
[null,"Percentual acumulado",{"$f":"C29/O29","v":0.13735454981127321},{"$f":"D29/O29","v":0.20371189213348295},{"$f":"E29/O29","v":0.2700692344556927},{"$f":"F29/O29","v":0.40278391910011224},{"$f":"G29/O29","v":0.46914126142232199},{"$f":"H29/O29","v":0.53549860374453173},{"$f":"I29/O29","v":0.66821328838895133},{"$f":"SUM(I31+J30)","v":0.73457063071116102},{"$f":"J31+K30","v":0.80092797303337071},{"$f":"K31+L30","v":0.8672853153555804},{"$f":"L31+M30","v":0.93364265767779009},{"$f":"SUM(M31+N30)","v":0.99999999999999978}]

{"sheet":"BDI","index":6,"n_rows":34,"n_cols":12,"rows_kept":34,"cut":false,"hidden":false,"merged":[[33,1,34,5],[33,6,34,6],[33,7,34,7],[33,8,34,8],[33,9,34,9],[28,2,28,5],[29,1,32,1],[29,2,29,4],[29,6,29,9],[30,2,30,4],[30,6,31,6],[30,7,31,7],[30,8,31,8],[30,9,31,9],[31,2,31,4],[32,2,32,4],[32,6,32,9],[26,1,27,1],[26,2,26,5],[27,2,27,5],[10,1,10,4],[11,1,11,4],[12,1,12,4],[13,1,13,4],[14,1,14,4],[17,0,20,10],[22,1,23,1],[22,2,23,5],[22,6,22,9],[24,2,24,5],[25,2,25,5],[9,1,9,4],[4,0,4,5],[5,1,5,5],[6,1,6,4],[7,1,7,4],[8,1,8,4]]}
["Prefeitura Municipal de "]
["Convênio: "]
["Melhorias Sanitárias Domiciliares"]
[]
["COMPOSIÇÃO DO BDI"]
[1,"BDI",null,null,null,null,null,null,null,{"$f":"7.5/100","v":7.4999999999999997E-2}]
["1.1","Administração Central",null,null,null,5.5E-2]
["1.2","Despesas Financeiras",null,null,null,9.5999999999999992E-3]
["1.3","Risco",null,null,null,1.2699999999999999E-2]
["1.4","Garantia e Seguros",null,null,null,0.01]
["1.5","Lucro",null,null,null,7.4999999999999997E-2]
["1.6","ISS (*)",null,null,null,1.4999999999999999E-2]
["1.7","CONFINS",null,null,null,0.03]
["1.8","PIS",null,null,null,6.4999999999999997E-3]
["1.9","CPRB",null,null,null,4.4999999999999998E-2]
[]
[null,null,null,null,"Cáculo do BDI"]
[]
[]
[]
[]
[]
[null,"ITEM","COMPONENTES BDI SERVIÇOS",null,null,null,"Valores de Referência - Componentes do BDI"]
[]
[null,"AC","Administração Central",null,null,null,"AC",null,0.04,null,null,5.5E-2]
[null,"DF","Despesas Financeiras",null,null,null,"DF",null,1.23E-2,null,null,9.5999999999999992E-3]
[null,"R","Risco",null,null,null,"R",null,1.2699999999999999E-2,null,null,1.2699999999999999E-2]
[null,null,"Garantia e Seguros",null,null,null,"GS",null,8.0000000000000002E-3,null,null,0.01]
[null,"L","Lucro",null,null,null,"L",null,7.3999999999999996E-2,null,null,7.4999999999999997E-2]
[null,"I","ISS                                                                                                 (*)",null,null,1.4999999999999999E-2,"Sem CPRB"]
[null,null,"COFINS",null,null,0.03,"BDI Total",null,{"$f":"(((1+I25+I28+I27)*(1+I26)*(1+I29))/(1-(F30+F31+F32)))-1","v":0.21581851253558249}]
[null,null,"PIS",null,null,6.4999999999999997E-3]
[null,null,"CPRB",null,null,4.4999999999999998E-2,"Com CPRB"]
[null,null,null,null,null,null,"BDI Total",null,{"$f":"(((1+I25+I28+I27)*(1+I26)*(1+I29))/(1-(F30+F31+F32+F33)))-1","v":0.27637394481460986}]